BEGIN:VCALENDAR
VERSION:2.0
PRODID:-//University View Academy - ECPv6.15.20//NONSGML v1.0//EN
CALSCALE:GREGORIAN
METHOD:PUBLISH
X-WR-CALNAME:University View Academy
X-ORIGINAL-URL:https://www.universityview.academy
X-WR-CALDESC:Events for University View Academy
REFRESH-INTERVAL;VALUE=DURATION:PT1H
X-Robots-Tag:noindex
X-PUBLISHED-TTL:PT1H
BEGIN:VTIMEZONE
TZID:America/Chicago
BEGIN:DAYLIGHT
TZOFFSETFROM:-0600
TZOFFSETTO:-0500
TZNAME:CDT
DTSTART:20250309T080000
END:DAYLIGHT
BEGIN:STANDARD
TZOFFSETFROM:-0500
TZOFFSETTO:-0600
TZNAME:CST
DTSTART:20251102T070000
END:STANDARD
BEGIN:DAYLIGHT
TZOFFSETFROM:-0600
TZOFFSETTO:-0500
TZNAME:CDT
DTSTART:20260308T080000
END:DAYLIGHT
BEGIN:STANDARD
TZOFFSETFROM:-0500
TZOFFSETTO:-0600
TZNAME:CST
DTSTART:20261101T070000
END:STANDARD
BEGIN:DAYLIGHT
TZOFFSETFROM:-0600
TZOFFSETTO:-0500
TZNAME:CDT
DTSTART:20270314T080000
END:DAYLIGHT
BEGIN:STANDARD
TZOFFSETFROM:-0500
TZOFFSETTO:-0600
TZNAME:CST
DTSTART:20271107T070000
END:STANDARD
END:VTIMEZONE
BEGIN:VEVENT
DTSTART;VALUE=DATE:20260605
DTEND;VALUE=DATE:20260606
DTSTAMP:20260423T055514
CREATED:20250219T203639Z
LAST-MODIFIED:20250219T203639Z
UID:6088-1780617600-1780703999@www.universityview.academy
SUMMARY:Last Day for 10-Month Employees
DESCRIPTION:
URL:https://www.universityview.academy/event/last-day-for-10-month-employees-2026/
CATEGORIES:UVA Calendar
END:VEVENT
BEGIN:VEVENT
DTSTART;VALUE=DATE:20260612
DTEND;VALUE=DATE:20260613
DTSTAMP:20260423T055514
CREATED:20250219T203800Z
LAST-MODIFIED:20250219T203800Z
UID:6089-1781222400-1781308799@www.universityview.academy
SUMMARY:Summer Friday
DESCRIPTION:UVA offices are closed.
URL:https://www.universityview.academy/event/summer-friday-1-2026/
CATEGORIES:UVA Calendar
END:VEVENT
BEGIN:VEVENT
DTSTART;VALUE=DATE:20260618
DTEND;VALUE=DATE:20260619
DTSTAMP:20260423T055514
CREATED:20250219T203851Z
LAST-MODIFIED:20250219T203851Z
UID:6090-1781740800-1781827199@www.universityview.academy
SUMMARY:Summer Friday
DESCRIPTION:UVA offices are closed.
URL:https://www.universityview.academy/event/summer-friday-2-2026/
CATEGORIES:UVA Calendar
END:VEVENT
BEGIN:VEVENT
DTSTART;VALUE=DATE:20260619
DTEND;VALUE=DATE:20260620
DTSTAMP:20260423T055514
CREATED:20250219T203930Z
LAST-MODIFIED:20250219T203930Z
UID:6091-1781827200-1781913599@www.universityview.academy
SUMMARY:Juneteenth Holiday
DESCRIPTION:UVA offices are closed.
URL:https://www.universityview.academy/event/juneteenth-holiday-2026/
CATEGORIES:UVA Calendar
END:VEVENT
BEGIN:VEVENT
DTSTART;VALUE=DATE:20260626
DTEND;VALUE=DATE:20260627
DTSTAMP:20260423T055514
CREATED:20250219T204014Z
LAST-MODIFIED:20250219T204014Z
UID:6092-1782432000-1782518399@www.universityview.academy
SUMMARY:Summer Friday
DESCRIPTION:UVA offices are closed.
URL:https://www.universityview.academy/event/summer-friday-3-2026/
CATEGORIES:UVA Calendar
END:VEVENT
END:VCALENDAR