BEGIN:VCALENDAR
VERSION:2.0
PRODID:-//University View Academy - ECPv6.15.20//NONSGML v1.0//EN
CALSCALE:GREGORIAN
METHOD:PUBLISH
X-ORIGINAL-URL:https://www.universityview.academy
X-WR-CALDESC:Events for University View Academy
REFRESH-INTERVAL;VALUE=DURATION:PT1H
X-Robots-Tag:noindex
X-PUBLISHED-TTL:PT1H
BEGIN:VTIMEZONE
TZID:America/Chicago
BEGIN:DAYLIGHT
TZOFFSETFROM:-0600
TZOFFSETTO:-0500
TZNAME:CDT
DTSTART:20220313T080000
END:DAYLIGHT
BEGIN:STANDARD
TZOFFSETFROM:-0500
TZOFFSETTO:-0600
TZNAME:CST
DTSTART:20221106T070000
END:STANDARD
BEGIN:DAYLIGHT
TZOFFSETFROM:-0600
TZOFFSETTO:-0500
TZNAME:CDT
DTSTART:20230312T080000
END:DAYLIGHT
BEGIN:STANDARD
TZOFFSETFROM:-0500
TZOFFSETTO:-0600
TZNAME:CST
DTSTART:20231105T070000
END:STANDARD
BEGIN:DAYLIGHT
TZOFFSETFROM:-0600
TZOFFSETTO:-0500
TZNAME:CDT
DTSTART:20240310T080000
END:DAYLIGHT
BEGIN:STANDARD
TZOFFSETFROM:-0500
TZOFFSETTO:-0600
TZNAME:CST
DTSTART:20241103T070000
END:STANDARD
END:VTIMEZONE
BEGIN:VEVENT
DTSTART;TZID=America/Chicago:20230707T150000
DTEND;TZID=America/Chicago:20230707T160000
DTSTAMP:20260420T080548
CREATED:20230706T184310Z
LAST-MODIFIED:20230706T184310Z
UID:3330-1688742000-1688745600@www.universityview.academy
SUMMARY:Special Board Meeting July 7 2023
DESCRIPTION:
URL:https://www.universityview.academy/event/special-board-meeting-july-7-2023/
LOCATION:University View Academy Conference Center\, 3113 Valley Creek Drive\, Baton Rouge\, LA\, 70808\, United States
CATEGORIES:Board Meetings
END:VEVENT
BEGIN:VEVENT
DTSTART;VALUE=DATE:20230707
DTEND;VALUE=DATE:20230708
DTSTAMP:20260420T080548
CREATED:20230706T183029Z
LAST-MODIFIED:20230706T183029Z
UID:3327-1688688000-1688774399@www.universityview.academy
SUMMARY:Public Notice Special Board July 7 23
DESCRIPTION:
URL:https://www.universityview.academy/event/public-notice-special-board-july-7-23/
LOCATION:University View Academy Conference Center\, 3113 Valley Creek Drive\, Baton Rouge\, LA\, 70808\, United States
CATEGORIES:Board Meetings
END:VEVENT
BEGIN:VEVENT
DTSTART;TZID=America/Chicago:20230627T170000
DTEND;TZID=America/Chicago:20230627T190000
DTSTAMP:20260420T080548
CREATED:20230626T195921Z
LAST-MODIFIED:20230626T195921Z
UID:3310-1687885200-1687892400@www.universityview.academy
SUMMARY:Regular Board June 27 23
DESCRIPTION:
URL:https://www.universityview.academy/event/regular-board-june-27-23/
LOCATION:University View Academy Conference Center\, 3113 Valley Creek Drive\, Baton Rouge\, LA\, 70808\, United States
CATEGORIES:Board Meetings
END:VEVENT
BEGIN:VEVENT
DTSTART;TZID=America/Chicago:20230627T160000
DTEND;TZID=America/Chicago:20230627T170000
DTSTAMP:20260420T080548
CREATED:20230626T195751Z
LAST-MODIFIED:20230626T195751Z
UID:3307-1687881600-1687885200@www.universityview.academy
SUMMARY:Finance Committee June 27 23
DESCRIPTION:
URL:https://www.universityview.academy/event/finance-committee-june-27-23/
LOCATION:University View Academy Conference Center\, 3113 Valley Creek Drive\, Baton Rouge\, LA\, 70808\, United States
CATEGORIES:Board Meetings
END:VEVENT
BEGIN:VEVENT
DTSTART;VALUE=DATE:20230627
DTEND;VALUE=DATE:20230628
DTSTAMP:20260420T080548
CREATED:20230626T193637Z
LAST-MODIFIED:20230626T193637Z
UID:3304-1687824000-1687910399@www.universityview.academy
SUMMARY:Public Notice June 27 23
DESCRIPTION:
URL:https://www.universityview.academy/event/public-notice-june-27-23/
LOCATION:University View Academy Conference Center\, 3113 Valley Creek Drive\, Baton Rouge\, LA\, 70808\, United States
CATEGORIES:Board Meetings
END:VEVENT
BEGIN:VEVENT
DTSTART;TZID=America/Chicago:20230610T083000
DTEND;TZID=America/Chicago:20230610T160000
DTSTAMP:20260420T080548
CREATED:20230612T162836Z
LAST-MODIFIED:20230612T162836Z
UID:3297-1686385800-1686412800@www.universityview.academy
SUMMARY:2023 Board Retreat
DESCRIPTION:
URL:https://www.universityview.academy/event/2023-board-retreat-agenda/
LOCATION:The Cook Hotel & Conference Center\, 3838 W. Lakeshore Drive\, Baton Rouge\, LA\, 70808\, United States
CATEGORIES:Board Meetings
END:VEVENT
BEGIN:VEVENT
DTSTART;VALUE=DATE:20230610
DTEND;VALUE=DATE:20230611
DTSTAMP:20260420T080548
CREATED:20230612T162704Z
LAST-MODIFIED:20230612T162704Z
UID:3295-1686355200-1686441599@www.universityview.academy
SUMMARY:2023 Board Retreat Public Notice
DESCRIPTION:
URL:https://www.universityview.academy/event/2023-board-retreat-public-notice/
LOCATION:The Cook Hotel & Conference Center\, 3838 W. Lakeshore Drive\, Baton Rouge\, LA\, 70808\, United States
CATEGORIES:Board Meetings
END:VEVENT
BEGIN:VEVENT
DTSTART;TZID=America/Chicago:20230602T150000
DTEND;TZID=America/Chicago:20230602T160000
DTSTAMP:20260420T080548
CREATED:20230601T190021Z
LAST-MODIFIED:20230601T190021Z
UID:3287-1685718000-1685721600@www.universityview.academy
SUMMARY:Special Board Meeting June 2 23
DESCRIPTION:
URL:https://www.universityview.academy/event/special-board-meeting-june-2-23/
LOCATION:University View Academy Conference Center\, 3113 Valley Creek Drive\, Baton Rouge\, LA\, 70808\, United States
CATEGORIES:Board Meetings
END:VEVENT
BEGIN:VEVENT
DTSTART;VALUE=DATE:20230602
DTEND;VALUE=DATE:20230603
DTSTAMP:20260420T080548
CREATED:20230601T185827Z
LAST-MODIFIED:20230601T185827Z
UID:3288-1685664000-1685750399@www.universityview.academy
SUMMARY:Public Notice Special Board June 2 23
DESCRIPTION:
URL:https://www.universityview.academy/event/public-notice-special-board-june-2-23/
LOCATION:University View Academy Conference Center\, 3113 Valley Creek Drive\, Baton Rouge\, LA\, 70808\, United States
CATEGORIES:Board Meetings
END:VEVENT
BEGIN:VEVENT
DTSTART;TZID=America/Chicago:20230523T170000
DTEND;TZID=America/Chicago:20230523T190000
DTSTAMP:20260420T080548
CREATED:20230522T195105Z
LAST-MODIFIED:20230522T195105Z
UID:3264-1684861200-1684868400@www.universityview.academy
SUMMARY:Regular Board Meeting May 23 23
DESCRIPTION:
URL:https://www.universityview.academy/event/regular-board-meeting-may-23-23/
LOCATION:University View Academy Conference Center\, 3113 Valley Creek Drive\, Baton Rouge\, LA\, 70808\, United States
CATEGORIES:Board Meetings
END:VEVENT
BEGIN:VEVENT
DTSTART;TZID=America/Chicago:20230523T160000
DTEND;TZID=America/Chicago:20230523T170000
DTSTAMP:20260420T080548
CREATED:20230522T194602Z
LAST-MODIFIED:20230522T194602Z
UID:3263-1684857600-1684861200@www.universityview.academy
SUMMARY:Finance Committee May 23 23
DESCRIPTION:
URL:https://www.universityview.academy/event/finance-committee-may-23-23/
LOCATION:University View Academy Conference Center\, 3113 Valley Creek Drive\, Baton Rouge\, LA\, 70808\, United States
CATEGORIES:Board Meetings
END:VEVENT
BEGIN:VEVENT
DTSTART;VALUE=DATE:20230523
DTEND;VALUE=DATE:20230524
DTSTAMP:20260420T080548
CREATED:20230522T194410Z
LAST-MODIFIED:20230522T194410Z
UID:3262-1684800000-1684886399@www.universityview.academy
SUMMARY:Public Notice May 23 23
DESCRIPTION:
URL:https://www.universityview.academy/event/public-notice-may-23-23/
LOCATION:University View Academy Conference Center\, 3113 Valley Creek Drive\, Baton Rouge\, LA\, 70808\, United States
CATEGORIES:Board Meetings
END:VEVENT
BEGIN:VEVENT
DTSTART;TZID=America/Chicago:20230509T160000
DTEND;TZID=America/Chicago:20230509T170000
DTSTAMP:20260420T080548
CREATED:20230508T193231Z
LAST-MODIFIED:20230508T193231Z
UID:3200-1683648000-1683651600@www.universityview.academy
SUMMARY:Special Board Meeting May 9 23
DESCRIPTION:
URL:https://www.universityview.academy/event/special-board-meeting-may-9-23/
LOCATION:University View Academy Conference Center\, 3113 Valley Creek Drive\, Baton Rouge\, LA\, 70808\, United States
CATEGORIES:Board Meetings
END:VEVENT
BEGIN:VEVENT
DTSTART;VALUE=DATE:20230509
DTEND;VALUE=DATE:20230510
DTSTAMP:20260420T080548
CREATED:20230508T192842Z
LAST-MODIFIED:20230508T192842Z
UID:3196-1683590400-1683676799@www.universityview.academy
SUMMARY:Public Notice Special Board Meeting May 9 23
DESCRIPTION:
URL:https://www.universityview.academy/event/public-notice-special-board-meeting-may-9-23/
LOCATION:University View Academy Conference Center\, 3113 Valley Creek Drive\, Baton Rouge\, LA\, 70808\, United States
CATEGORIES:Board Meetings
END:VEVENT
BEGIN:VEVENT
DTSTART;TZID=America/Chicago:20230425T170000
DTEND;TZID=America/Chicago:20230425T190000
DTSTAMP:20260420T080548
CREATED:20230424T200956Z
LAST-MODIFIED:20230424T200956Z
UID:3182-1682442000-1682449200@www.universityview.academy
SUMMARY:Regular Board Meeting Apr 25 23
DESCRIPTION:
URL:https://www.universityview.academy/event/regular-board-meeting-apr-25-23/
LOCATION:University View Academy Conference Center\, 3113 Valley Creek Drive\, Baton Rouge\, LA\, 70808\, United States
CATEGORIES:Board Meetings
END:VEVENT
BEGIN:VEVENT
DTSTART;TZID=America/Chicago:20230425T160000
DTEND;TZID=America/Chicago:20230425T170000
DTSTAMP:20260420T080548
CREATED:20230424T200814Z
LAST-MODIFIED:20230424T200814Z
UID:3180-1682438400-1682442000@www.universityview.academy
SUMMARY:Finance Committee Meeting Apr 25 23
DESCRIPTION:
URL:https://www.universityview.academy/event/finance-committee-meeting-apr-25-23/
LOCATION:University View Academy Conference Center\, 3113 Valley Creek Drive\, Baton Rouge\, LA\, 70808\, United States
CATEGORIES:Board Meetings
END:VEVENT
BEGIN:VEVENT
DTSTART;VALUE=DATE:20230425
DTEND;VALUE=DATE:20230426
DTSTAMP:20260420T080548
CREATED:20230424T200305Z
LAST-MODIFIED:20230424T200305Z
UID:3178-1682380800-1682467199@www.universityview.academy
SUMMARY:Public Notice Regular Board Meeting April 25 23
DESCRIPTION:
URL:https://www.universityview.academy/event/public-notice-regular-board-meeting-april-25-23/
LOCATION:University View Academy Conference Center\, 3113 Valley Creek Drive\, Baton Rouge\, LA\, 70808\, United States
CATEGORIES:Board Meetings
END:VEVENT
BEGIN:VEVENT
DTSTART;TZID=America/Chicago:20230328T170000
DTEND;TZID=America/Chicago:20230328T190000
DTSTAMP:20260420T080548
CREATED:20230327T192425Z
LAST-MODIFIED:20230327T192425Z
UID:3163-1680022800-1680030000@www.universityview.academy
SUMMARY:Regular Board Meeting March 28\, 2023
DESCRIPTION:
URL:https://www.universityview.academy/event/regular-board-meeting-march-28-2023/
LOCATION:University View Academy Conference Center\, 3113 Valley Creek Drive\, Baton Rouge\, LA\, 70808\, United States
CATEGORIES:Board Meetings
END:VEVENT
BEGIN:VEVENT
DTSTART;TZID=America/Chicago:20230328T160000
DTEND;TZID=America/Chicago:20230328T170000
DTSTAMP:20260420T080548
CREATED:20230327T192025Z
LAST-MODIFIED:20230327T192025Z
UID:3161-1680019200-1680022800@www.universityview.academy
SUMMARY:Finance Committee Meeting March 28 2023
DESCRIPTION:
URL:https://www.universityview.academy/event/finance-committee-meeting-march-28-23/
LOCATION:University View Academy Conference Center\, 3113 Valley Creek Drive\, Baton Rouge\, LA\, 70808\, United States
CATEGORIES:Board Meetings
END:VEVENT
BEGIN:VEVENT
DTSTART;VALUE=DATE:20230328
DTEND;VALUE=DATE:20230329
DTSTAMP:20260420T080548
CREATED:20230327T191511Z
LAST-MODIFIED:20230327T191511Z
UID:3160-1679961600-1680047999@www.universityview.academy
SUMMARY:Public Notice Regular Board Meeting Mar 28 23
DESCRIPTION:
URL:https://www.universityview.academy/event/public-notice-regular-board-meeting-mar-28-23/
LOCATION:University View Academy Conference Center\, 3113 Valley Creek Drive\, Baton Rouge\, LA\, 70808\, United States
CATEGORIES:Board Meetings
END:VEVENT
BEGIN:VEVENT
DTSTART;TZID=America/Chicago:20230228T170000
DTEND;TZID=America/Chicago:20230228T190000
DTSTAMP:20260420T080548
CREATED:20230227T210242Z
LAST-MODIFIED:20230227T210242Z
UID:3115-1677603600-1677610800@www.universityview.academy
SUMMARY:Regular Board Meeting Feb 28 23
DESCRIPTION:
URL:https://www.universityview.academy/event/regular-board-meeting-feb-28-23/
LOCATION:University View Academy Conference Center\, 3113 Valley Creek Drive\, Baton Rouge\, LA\, 70808\, United States
CATEGORIES:Board Meetings
END:VEVENT
BEGIN:VEVENT
DTSTART;TZID=America/Chicago:20230228T160000
DTEND;TZID=America/Chicago:20230228T170000
DTSTAMP:20260420T080548
CREATED:20230227T210124Z
LAST-MODIFIED:20230227T210124Z
UID:3114-1677600000-1677603600@www.universityview.academy
SUMMARY:Finance Committee Feb 28 23
DESCRIPTION:
URL:https://www.universityview.academy/event/finance-committee-feb-28-23/
LOCATION:University View Academy Conference Center\, 3113 Valley Creek Drive\, Baton Rouge\, LA\, 70808\, United States
CATEGORIES:Board Meetings
END:VEVENT
BEGIN:VEVENT
DTSTART;VALUE=DATE:20230228
DTEND;VALUE=DATE:20230301
DTSTAMP:20260420T080548
CREATED:20230227T210004Z
LAST-MODIFIED:20230227T210004Z
UID:3113-1677542400-1677628799@www.universityview.academy
SUMMARY:Public Notice Feb 28 23
DESCRIPTION:
URL:https://www.universityview.academy/event/public-notice-feb-28-23-2/
LOCATION:University View Academy Conference Center\, 3113 Valley Creek Drive\, Baton Rouge\, LA\, 70808\, United States
CATEGORIES:Board Meetings
END:VEVENT
BEGIN:VEVENT
DTSTART;TZID=America/Chicago:20230207T150000
DTEND;TZID=America/Chicago:20230207T160000
DTSTAMP:20260420T080548
CREATED:20230206T201626Z
LAST-MODIFIED:20230206T201626Z
UID:3095-1675782000-1675785600@www.universityview.academy
SUMMARY:Executive Committee Meeting Feb 7 23
DESCRIPTION:
URL:https://www.universityview.academy/event/executive-committee-meeting-feb-7-23/
LOCATION:University View Academy Conference Center\, 3113 Valley Creek Drive\, Baton Rouge\, LA\, 70808\, United States
CATEGORIES:Board Meetings
END:VEVENT
BEGIN:VEVENT
DTSTART;TZID=America/Chicago:20230207T150000
DTEND;TZID=America/Chicago:20230207T160000
DTSTAMP:20260420T080548
CREATED:20230206T201543Z
LAST-MODIFIED:20230206T201543Z
UID:3094-1675782000-1675785600@www.universityview.academy
SUMMARY:Public Notice Exec Comm Meeting Feb 7 23
DESCRIPTION:
URL:https://www.universityview.academy/event/public-notice-exec-comm-meeting-feb-7-23/
LOCATION:University View Academy Conference Center\, 3113 Valley Creek Drive\, Baton Rouge\, LA\, 70808\, United States
CATEGORIES:Board Meetings
END:VEVENT
BEGIN:VEVENT
DTSTART;TZID=America/Chicago:20230127T163000
DTEND;TZID=America/Chicago:20230127T183000
DTSTAMP:20260420T080548
CREATED:20230126T213252Z
LAST-MODIFIED:20230126T213252Z
UID:3036-1674837000-1674844200@www.universityview.academy
SUMMARY:Regular Board Meeting Jan 27 23
DESCRIPTION:
URL:https://www.universityview.academy/event/regular-board-meeting-jan-27-23/
LOCATION:University View Academy Conference Center\, 3113 Valley Creek Drive\, Baton Rouge\, LA\, 70808\, United States
CATEGORIES:Board Meetings
END:VEVENT
BEGIN:VEVENT
DTSTART;TZID=America/Chicago:20230127T153000
DTEND;TZID=America/Chicago:20230127T163000
DTSTAMP:20260420T080548
CREATED:20230126T212845Z
LAST-MODIFIED:20230126T212845Z
UID:3035-1674833400-1674837000@www.universityview.academy
SUMMARY:Finance Committee Meeting Jan 27 23
DESCRIPTION:
URL:https://www.universityview.academy/event/finance-committee-meeting-jan-27-23/
LOCATION:University View Academy Conference Center\, 3113 Valley Creek Drive\, Baton Rouge\, LA\, 70808\, United States
CATEGORIES:Board Meetings
END:VEVENT
BEGIN:VEVENT
DTSTART;VALUE=DATE:20230127
DTEND;VALUE=DATE:20230128
DTSTAMP:20260420T080548
CREATED:20230126T201056Z
LAST-MODIFIED:20230126T201056Z
UID:3031-1674777600-1674863999@www.universityview.academy
SUMMARY:Public Notice Regular Board Meeting Jan 27 23
DESCRIPTION:
URL:https://www.universityview.academy/event/public-notice-regular-board-meeting-jan-27-23/
LOCATION:University View Academy Conference Center\, 3113 Valley Creek Drive\, Baton Rouge\, LA\, 70808\, United States
CATEGORIES:Board Meetings
END:VEVENT
BEGIN:VEVENT
DTSTART;TZID=America/Chicago:20230124T160000
DTEND;TZID=America/Chicago:20230124T180000
DTSTAMP:20260420T080548
CREATED:20230123T203744Z
LAST-MODIFIED:20230123T203744Z
UID:3020-1674576000-1674583200@www.universityview.academy
SUMMARY:Public Notice Regular Board Meeting Jan 24 23
DESCRIPTION:
URL:https://www.universityview.academy/event/public-notice-regular-board-meeting-jan-24-23/
LOCATION:University View Academy Conference Center\, 3113 Valley Creek Drive\, Baton Rouge\, LA\, 70808\, United States
CATEGORIES:Board Meetings
END:VEVENT
BEGIN:VEVENT
DTSTART;TZID=America/Chicago:20230109T160000
DTEND;TZID=America/Chicago:20230109T180000
DTSTAMP:20260420T080548
CREATED:20230106T194832Z
LAST-MODIFIED:20230106T194832Z
UID:2977-1673280000-1673287200@www.universityview.academy
SUMMARY:Board Meeting Public Notice - January 9\, 2023
DESCRIPTION:
URL:https://www.universityview.academy/event/university-view-academy-board-meeting-public-notice-january-25-2023/
LOCATION:University View Academy Conference Center\, 3113 Valley Creek Drive\, Baton Rouge\, LA\, 70808\, United States
CATEGORIES:Board Meetings
END:VEVENT
END:VCALENDAR